BEGIN:VCALENDAR
METHOD:PUBLISH
PRODID:-//github.com/rianjs/ical.net//NONSGML ical.net 4.0//EN
VERSION:2.0
X-WR-CALNAME:Sunny Hills PTA
BEGIN:VEVENT
CREATED:20250827T234807
DTEND:20260424T065900Z
DTSTAMP:20260423T102526Z
DTSTART:20260424T010000Z
LAST-MODIFIED:20260422T131641
SEQUENCE:0
STATUS:CONFIRMED
SUMMARY:3rd Grade Music Concert
TRANSP:TRANSPARENT
UID:143458@ourschoolpages.com
END:VEVENT
END:VCALENDAR
